BEGIN:VCALENDAR
VERSION:2.0
CALSCALE:GREGORIAN
PRODID:-//WordPress//RSVPMaker//EN
METHOD:REQUEST
BEGIN:VEVENT
DTSTAMP:20260422T082939Z
UID:C3992E9A68C5AE12BD18488BC579B30D@rsvpmaker.com
SEQUENCE:0
STATUS:CONFIRMED
DTSTART:20251003T230000Z
DTEND:20251004T000000Z
LOCATION:See\: https\://betanualumni.org/rsvpmaker/ox-roast-happy-hour
 -2025/
SUMMARY:OX Roast Happy Hour 2025
DESCRIPTION:Event info\: https\://betanualumni.org/rsvpmaker/ox-roast-
 happy-hour-2025/
END:VEVENT
END:VCALENDAR