BEGIN:VCALENDAR
VERSION:2.0
CALSCALE:GREGORIAN
PRODID:-//WordPress//RSVPMaker//EN
METHOD:REQUEST
BEGIN:VEVENT
DTSTAMP:20260420T112622Z
UID:CFEE398643CBC3DC5EEFC89334CACDC1@rsvpmaker.com
SEQUENCE:0
STATUS:CONFIRMED
DTSTART:20241025T230000Z
DTEND:20241026T000000Z
LOCATION:See\: https\://betanualumni.org/rsvpmaker/ox-roast-happy-hour
 -2024/
SUMMARY:OX Roast Happy Hour 2024
DESCRIPTION:Event info\: https\://betanualumni.org/rsvpmaker/ox-roast-
 happy-hour-2024/
END:VEVENT
END:VCALENDAR