BEGIN:VCALENDAR
VERSION:2.0
CALSCALE:GREGORIAN
PRODID:-//WordPress//RSVPMaker//EN
METHOD:REQUEST
BEGIN:VEVENT
DTSTAMP:20260420T112559Z
UID:E1E32E235EEE1F970470A3A6658DFDD5@rsvpmaker.com
SEQUENCE:0
STATUS:CONFIRMED
DTSTART:20241027T150000Z
DTEND:20241027T160000Z
LOCATION:See\: https\://betanualumni.org/rsvpmaker/ox-roast-bunch-2024
 /
SUMMARY:OX Roast Bunch 2024
DESCRIPTION:Event info\: https\://betanualumni.org/rsvpmaker/ox-roast-
 bunch-2024/
END:VEVENT
END:VCALENDAR