BEGIN:VCALENDAR
VERSION:2.0
CALSCALE:GREGORIAN
PRODID:-//WordPress//RSVPMaker//EN
METHOD:REQUEST
BEGIN:VEVENT
DTSTAMP:20260420T101107Z
UID:851DDF5058CF22DF63D3344AD89919CF@rsvpmaker.com
SEQUENCE:0
STATUS:CONFIRMED
DTSTART:20251005T140000Z
DTEND:20251005T150000Z
LOCATION:See\: https\://betanualumni.org/rsvpmaker/ox-roast-brunch-202
 5/
SUMMARY:OX Roast Brunch 2025
DESCRIPTION:Event info\: https\://betanualumni.org/rsvpmaker/ox-roast-
 brunch-2025/
END:VEVENT
END:VCALENDAR