BEGIN:VCALENDAR
VERSION:2.0
CALSCALE:GREGORIAN
PRODID:-//WordPress//RSVPMaker//EN
METHOD:REQUEST
BEGIN:VEVENT
DTSTAMP:20260420T100231Z
UID:9CF81D8026A9018052C429CC4E56739B@rsvpmaker.com
SEQUENCE:0
STATUS:CONFIRMED
DTSTART:20251004T230000Z
DTEND:20251005T000000Z
LOCATION:See\: https\://betanualumni.org/rsvpmaker/ox-roast-banquet-20
 25/
SUMMARY:OX Roast Banquet 2025
DESCRIPTION:Event info\: https\://betanualumni.org/rsvpmaker/ox-roast-
 banquet-2025/
END:VEVENT
END:VCALENDAR