BEGIN:VCALENDAR
VERSION:2.0
CALSCALE:GREGORIAN
PRODID:-//WordPress//RSVPMaker//EN
METHOD:REQUEST
BEGIN:VEVENT
DTSTAMP:20260420T112806Z
UID:9461CCE28EBE3E76FB4B931C35A169B0@rsvpmaker.com
SEQUENCE:0
STATUS:CONFIRMED
DTSTART:20241026T230000Z
DTEND:20241027T000000Z
LOCATION:See\: https\://betanualumni.org/rsvpmaker/ox-roast-2024/
SUMMARY:OX Roast 2024
DESCRIPTION:Event info\: https\://betanualumni.org/rsvpmaker/ox-roast-
 2024/
END:VEVENT
END:VCALENDAR