BEGIN:VCALENDAR
VERSION:2.0
CALSCALE:GREGORIAN
PRODID:-//WordPress//RSVPMaker//EN
METHOD:REQUEST
BEGIN:VEVENT
DTSTAMP:20260420T113101Z
UID:15D4E891D784977CACBFCBB00C48F133@rsvpmaker.com
SEQUENCE:0
STATUS:CONFIRMED
DTSTART:20231230T000000Z
DTEND:20231230T010000Z
LOCATION:Das Schnitzel Haus\, 5728 Pearl Rd\, Parma\, OH 44129
SUMMARY:Beta Nu Alumni Holiday Dinner 2023
DESCRIPTION:Event info\: https\://betanualumni.org/rsvpmaker/beta-nu-a
 lumni-holiday-dinner-2023/
END:VEVENT
END:VCALENDAR